Workbook

Sheet Checklist
A1: IT-fundamenten - Checklist
A2: Vul per punt in: Goed / Kans / Slecht. Het overzicht-tabblad telt automatisch.
A4: Checkpunt | B4: Score | C4: Notitie
A5: 1. Fundament (stabiele basis)
A6: Past de IT-oplossing bij onze organisatie en is deze stabiel?
A7: Geeft het de flexibiliteit, veiligheid en zekerheid die we nodig hebben?
A8: Zijn de netwerkverbindingen snel genoeg en stabiel?
A9: Is het interne (draadloze) netwerk stabiel?
A10: Is de internetverbinding snel genoeg?
A11: Is de apparatuur snel en van voldoende kwaliteit?
A12: Is de mailomgeving voldoende qua opslag, snelheid en veiligheid?
A13: Is de dataopslag voldoende qua omvang, snelheid en veiligheid?
A14: 2. Gebruikersgemak
A15: Hebben gebruikers eenvoudig toegang tot applicaties en data?
A16: Hoeft niemand vaker dan nodig in te loggen of wachtwoorden te wijzigen?
... A40: Wat maakt dat IT fijner gebruikt kan worden (wachtwoordloos, beter scherm)?

Sheet Overzicht
A1: Score per pijler
A2: Automatisch berekend op basis van het Checklist-tabblad.
A4: Pijler | B4: Goed | C4: Kans | D4: Slecht | E4: Status
A5: 1. Fundament | B5: =COUNTIF(Checklist!B6:B13,"Goed") -> 0 | C5: =COUNTIF(Checklist!B6:B13,"Kans") -> 0 | D5: =COUNTIF(Checklist!B6:B13,"Slecht") -> 0 | E5: =IF(D5>0,"Aandacht nodig",IF(C5>0,"Ruimte voor verbetering",IF(B5>0,"Goed op orde","Nog invullen"))) -> Nog invullen
A6: 2. Gebruikersgemak | B6: =COUNTIF(Checklist!B15:B19,"Goed") -> 0 | C6: =COUNTIF(Checklist!B15:B19,"Kans") -> 0 | D6: =COUNTIF(Checklist!B15:B19,"Slecht") -> 0 | E6: =IF(D6>0,"Aandacht nodig",IF(C6>0,"Ruimte voor verbetering",IF(B6>0,"Goed op orde","Nog invullen"))) -> Nog invullen
A7: 3. Beveiliging | B7: =COUNTIF(Checklist!B21:B25,"Goed") -> 0 | C7: =COUNTIF(Checklist!B21:B25,"Kans") -> 0 | D7: =COUNTIF(Checklist!B21:B25,"Slecht") -> 0 | E7: =IF(D7>0,"Aandacht nodig",IF(C7>0,"Ruimte voor verbetering",IF(B7>0,"Goed op orde","Nog invullen"))) -> Nog invullen
A8: 4. Beheer | B8: =COUNTIF(Checklist!B27:B30,"Goed") -> 0 | C8: =COUNTIF(Checklist!B27:B30,"Kans") -> 0 | D8: =COUNTIF(Checklist!B27:B30,"Slecht") -> 0 | E8: =IF(D8>0,"Aandacht nodig",IF(C8>0,"Ruimte voor verbetering",IF(B8>0,"Goed op orde","Nog invullen"))) -> Nog invullen
A9: 5. Calamiteitenplan | B9: =COUNTIF(Checklist!B32:B35,"Goed") -> 0 | C9: =COUNTIF(Checklist!B32:B35,"Kans") -> 0 | D9: =COUNTIF(Checklist!B32:B35,"Slecht") -> 0 | E9: =IF(D9>0,"Aandacht nodig",IF(C9>0,"Ruimte voor verbetering",IF(B9>0,"Goed op orde","Nog invullen"))) -> Nog invullen
A10: 6. Optimalisatie | B10: =COUNTIF(Checklist!B37:B40,"Goed") -> 0 | C10: =COUNTIF(Checklist!B37:B40,"Kans") -> 0 | D10: =COUNTIF(Checklist!B37:B40,"Slecht") -> 0 | E10: =IF(D10>0,"Aandacht nodig",IF(C10>0,"Ruimte voor verbetering",IF(B10>0,"Goed op orde","Nog invullen"))) -> Nog invullen
A12: TOTAAL | B12: =SUM(B5:B10) -> 0 | C12: =SUM(C5:C10) -> 0 | D12: =SUM(D5:D10) -> 0 | E12: =IF(D12>3,"Eerst de basis op orde",IF(D12>0,"Werk aan de zwakke punten",IF(C12>3,"Goede basis, optimaliseer","Je staat als een huis"))) -> Je staat als een huis
